BEGIN:VCALENDAR
VERSION:2.0
PRODID:-//goodsambwd.org//NONSGML kigkonsult.se iCalcreator 2.30.10//
CALSCALE:GREGORIAN
METHOD:PUBLISH
UID:478750e8-9529-4ef5-80b6-cbeb4d9332c7
X-WR-CALDESC:
X-WR-RELCALID:eae5580467ba9ab97a7875f9fb1320b2
X-WR-TIMEZONE:America/Chicago
BEGIN:VTIMEZONE
TZID:America/Chicago
BEGIN:STANDARD
TZNAME:CST
DTSTART:20251102T020000
TZOFFSETFROM:-0500
TZOFFSETTO:-0600
RDATE:20261101T020000
END:STANDARD
BEGIN:DAYLIGHT
TZNAME:CDT
DTSTART:20260308T020000
TZOFFSETFROM:-0600
TZOFFSETTO:-0500
RDATE:20270314T020000
END:DAYLIGHT
END:VTIMEZONE
BEGIN:VEVENT
UID:1ca47bfc-622b-45e7-b557-d7965ba2ae75
DTSTAMP:20260422T084419Z
DESCRIPTION:
DTSTART;TZID=America/Chicago:20260326T113000
DTEND;TZID=America/Chicago:20260326T123000
LOCATION:
SUMMARY:E.B. Survey
END:VEVENT
END:VCALENDAR
