BEGIN:VCALENDAR
VERSION:2.0
PRODID:-//goodsambwd.org//NONSGML kigkonsult.se iCalcreator 2.30.10//
CALSCALE:GREGORIAN
METHOD:PUBLISH
UID:f1bfd709-0046-4003-8c2f-82f4c5934eff
X-WR-CALDESC:
X-WR-RELCALID:f964bc4cb5e4dafb3534f25b602164fe
X-WR-TIMEZONE:America/Chicago
BEGIN:VTIMEZONE
TZID:America/Chicago
BEGIN:STANDARD
TZNAME:CST
DTSTART:20251102T020000
TZOFFSETFROM:-0500
TZOFFSETTO:-0600
RDATE:20261101T020000
END:STANDARD
BEGIN:DAYLIGHT
TZNAME:CDT
DTSTART:20250309T020000
TZOFFSETFROM:-0600
TZOFFSETTO:-0500
RDATE:20260308T020000
RDATE:20270314T020000
END:DAYLIGHT
END:VTIMEZONE
BEGIN:VEVENT
UID:99baa5c2-f20b-4ebd-8a6d-815863551e24
DTSTAMP:20260422T102529Z
DESCRIPTION:
DTSTART;TZID=America/Chicago:20260225T050000
DTEND;TZID=America/Chicago:20260225T050001
LOCATION:305 Clark St \, Brownwood \, TX 76801 US
SUMMARY:GSM Bowl Painting - Off Site
END:VEVENT
END:VCALENDAR
