BEGIN:VCALENDAR
VERSION:2.0
PRODID:-//goodsambwd.org//NONSGML kigkonsult.se iCalcreator 2.30.10//
CALSCALE:GREGORIAN
METHOD:PUBLISH
UID:4baae387-c2bc-4004-8560-4962869fd31c
X-WR-CALDESC:
X-WR-RELCALID:9752e8c89155f81631acb065658ee423
X-WR-TIMEZONE:America/Chicago
BEGIN:VTIMEZONE
TZID:America/Chicago
BEGIN:STANDARD
TZNAME:CST
DTSTART:20251102T020000
TZOFFSETFROM:-0500
TZOFFSETTO:-0600
RDATE:20261101T020000
END:STANDARD
BEGIN:DAYLIGHT
TZNAME:CDT
DTSTART:20250309T020000
TZOFFSETFROM:-0600
TZOFFSETTO:-0500
RDATE:20260308T020000
RDATE:20270314T020000
END:DAYLIGHT
END:VTIMEZONE
BEGIN:VEVENT
UID:55d7d252-f186-4e10-9e6d-ad22d3b685e9
DTSTAMP:20260422T102518Z
DESCRIPTION:
DTSTART;TZID=America/Chicago:20260223T173000
DTEND;TZID=America/Chicago:20260223T183000
LOCATION:305 Clark St \, Brownwood \, TX 76801 US
SUMMARY:GSM Bowl Painting
END:VEVENT
END:VCALENDAR
