BEGIN:VCALENDAR
VERSION:2.0
PRODID:-//goodsambwd.org//NONSGML kigkonsult.se iCalcreator 2.30.10//
CALSCALE:GREGORIAN
METHOD:PUBLISH
UID:26d28a1b-95be-4f72-9177-b508d9c6d60e
X-WR-CALDESC:
X-WR-RELCALID:2f96283639b0825cfd79ad7bc6a45806
X-WR-TIMEZONE:America/Chicago
BEGIN:VTIMEZONE
TZID:America/Chicago
BEGIN:STANDARD
TZNAME:CST
DTSTART:20251102T020000
TZOFFSETFROM:-0500
TZOFFSETTO:-0600
RDATE:20261101T020000
END:STANDARD
BEGIN:DAYLIGHT
TZNAME:CDT
DTSTART:20250309T020000
TZOFFSETFROM:-0600
TZOFFSETTO:-0500
RDATE:20260308T020000
RDATE:20270314T020000
END:DAYLIGHT
END:VTIMEZONE
BEGIN:VEVENT
UID:1e565916-317c-4d10-b2e3-e2d36afad7ad
DTSTAMP:20260422T102035Z
DESCRIPTION:
DTSTART;TZID=America/Chicago:20260221T123000
DTEND;TZID=America/Chicago:20260221T133000
LOCATION:305 Clark St \, Brownwood \, TX 76801 US
SUMMARY:GSM Bowl Painting
END:VEVENT
END:VCALENDAR
