BEGIN:VCALENDAR
VERSION:2.0
PRODID:-//goodsambwd.org//NONSGML kigkonsult.se iCalcreator 2.30.10//
CALSCALE:GREGORIAN
METHOD:PUBLISH
UID:657d93f5-ed84-41fc-98ff-99741cc25faf
X-WR-CALDESC:
X-WR-RELCALID:f0ad2dead9e1693e8538a679d94879f9
X-WR-TIMEZONE:America/Chicago
BEGIN:VTIMEZONE
TZID:America/Chicago
BEGIN:STANDARD
TZNAME:CST
DTSTART:20251102T020000
TZOFFSETFROM:-0500
TZOFFSETTO:-0600
RDATE:20261101T020000
END:STANDARD
BEGIN:DAYLIGHT
TZNAME:CDT
DTSTART:20250309T020000
TZOFFSETFROM:-0600
TZOFFSETTO:-0500
RDATE:20260308T020000
RDATE:20270314T020000
END:DAYLIGHT
END:VTIMEZONE
BEGIN:VEVENT
UID:56c01781-66b5-4e12-8843-9706d87164d5
DTSTAMP:20260422T102056Z
DESCRIPTION:
DTSTART;TZID=America/Chicago:20260221T103000
DTEND;TZID=America/Chicago:20260221T113000
LOCATION:305 Clark St \, Brownwood \, TX 76801 US
SUMMARY:GSM Bowl Painting
END:VEVENT
END:VCALENDAR
