BEGIN:VCALENDAR
VERSION:2.0
PRODID:-//goodsambwd.org//NONSGML kigkonsult.se iCalcreator 2.30.10//
CALSCALE:GREGORIAN
METHOD:PUBLISH
UID:6af78bf0-bb6a-4ae7-9843-351b870d0560
X-WR-CALDESC:
X-WR-RELCALID:847ddfb214084809fb3080647dd8b38d
X-WR-TIMEZONE:America/Chicago
BEGIN:VTIMEZONE
TZID:America/Chicago
BEGIN:STANDARD
TZNAME:CST
DTSTART:20251102T020000
TZOFFSETFROM:-0500
TZOFFSETTO:-0600
RDATE:20261101T020000
END:STANDARD
BEGIN:DAYLIGHT
TZNAME:CDT
DTSTART:20250309T020000
TZOFFSETFROM:-0600
TZOFFSETTO:-0500
RDATE:20260308T020000
RDATE:20270314T020000
END:DAYLIGHT
END:VTIMEZONE
BEGIN:VEVENT
UID:08af92f8-e507-4395-bd19-217229947bbb
DTSTAMP:20260424T093050Z
DESCRIPTION:
DTSTART;TZID=America/Chicago:20260221T050000
DTEND;TZID=America/Chicago:20260221T050001
LOCATION:
SUMMARY:E.B. Bowl Painting Off SITE
END:VEVENT
END:VCALENDAR
