BEGIN:VCALENDAR
VERSION:2.0
PRODID:-//goodsambwd.org//NONSGML kigkonsult.se iCalcreator 2.30.10//
CALSCALE:GREGORIAN
METHOD:PUBLISH
UID:8b552c60-8e2d-422e-8bd1-dea3ed041f08
X-WR-CALDESC:
X-WR-RELCALID:3e49c49f19aa8697ad04a1ef42476915
X-WR-TIMEZONE:America/Chicago
BEGIN:VTIMEZONE
TZID:America/Chicago
BEGIN:STANDARD
TZNAME:CST
DTSTART:20251102T020000
TZOFFSETFROM:-0500
TZOFFSETTO:-0600
RDATE:20261101T020000
END:STANDARD
BEGIN:DAYLIGHT
TZNAME:CDT
DTSTART:20250309T020000
TZOFFSETFROM:-0600
TZOFFSETTO:-0500
RDATE:20260308T020000
RDATE:20270314T020000
END:DAYLIGHT
END:VTIMEZONE
BEGIN:VEVENT
UID:aa4a7248-f019-4c7a-ba7e-f836ff8ffa09
DTSTAMP:20260422T102324Z
DESCRIPTION:
DTSTART;TZID=America/Chicago:20260214T050000
DTEND;TZID=America/Chicago:20260214T050001
LOCATION:
SUMMARY:E.B. Bowl Painting Off SITE
END:VEVENT
END:VCALENDAR
