BEGIN:VCALENDAR
VERSION:2.0
PRODID:-//goodsambwd.org//NONSGML kigkonsult.se iCalcreator 2.30.10//
CALSCALE:GREGORIAN
METHOD:PUBLISH
UID:aace2f42-73bf-420d-8732-1a4c85b0e1ab
X-WR-CALDESC:
X-WR-RELCALID:41589ee015dcf6b0204ffcccda355b8a
X-WR-TIMEZONE:America/Chicago
BEGIN:VTIMEZONE
TZID:America/Chicago
BEGIN:STANDARD
TZNAME:CST
DTSTART:20251102T020000
TZOFFSETFROM:-0500
TZOFFSETTO:-0600
RDATE:20261101T020000
END:STANDARD
BEGIN:DAYLIGHT
TZNAME:CDT
DTSTART:20250309T020000
TZOFFSETFROM:-0600
TZOFFSETTO:-0500
RDATE:20260308T020000
RDATE:20270314T020000
END:DAYLIGHT
END:VTIMEZONE
BEGIN:VEVENT
UID:651a50a4-e542-4ad2-a830-b26231b91443
DTSTAMP:20260422T102324Z
DESCRIPTION:
DTSTART;TZID=America/Chicago:20260212T050000
DTEND;TZID=America/Chicago:20260212T050001
LOCATION:
SUMMARY:E.B. Bowl Painting Off SITE
END:VEVENT
END:VCALENDAR
