BEGIN:VCALENDAR
VERSION:2.0
PRODID:-//goodsambwd.org//NONSGML kigkonsult.se iCalcreator 2.30.10//
CALSCALE:GREGORIAN
METHOD:PUBLISH
UID:34802cfd-c0be-4682-9bce-8a8339caa55c
X-WR-CALDESC:
X-WR-RELCALID:c8a6e69cf7dbed415e209f9df9b90150
X-WR-TIMEZONE:America/Chicago
BEGIN:VTIMEZONE
TZID:America/Chicago
BEGIN:STANDARD
TZNAME:CST
DTSTART:20251102T020000
TZOFFSETFROM:-0500
TZOFFSETTO:-0600
RDATE:20261101T020000
END:STANDARD
BEGIN:DAYLIGHT
TZNAME:CDT
DTSTART:20250309T020000
TZOFFSETFROM:-0600
TZOFFSETTO:-0500
RDATE:20260308T020000
RDATE:20270314T020000
END:DAYLIGHT
END:VTIMEZONE
BEGIN:VEVENT
UID:18e02493-e56a-4600-a606-f4925af94ea3
DTSTAMP:20260422T102206Z
DESCRIPTION:
DTSTART;TZID=America/Chicago:20260207T050000
DTEND;TZID=America/Chicago:20260207T050001
LOCATION:
SUMMARY:E.B. Bowl Painting Off SITE
END:VEVENT
END:VCALENDAR
