BEGIN:VCALENDAR
VERSION:2.0
PRODID:-//goodsambwd.org//NONSGML kigkonsult.se iCalcreator 2.30.10//
CALSCALE:GREGORIAN
METHOD:PUBLISH
UID:ebee087c-4d22-41d8-aae5-4423ce1219ee
X-WR-CALDESC:
X-WR-RELCALID:3de9898b7bbdf8c52234bb57d437ea12
X-WR-TIMEZONE:America/Chicago
BEGIN:VTIMEZONE
TZID:America/Chicago
BEGIN:STANDARD
TZNAME:CST
DTSTART:20251102T020000
TZOFFSETFROM:-0500
TZOFFSETTO:-0600
RDATE:20261101T020000
END:STANDARD
BEGIN:DAYLIGHT
TZNAME:CDT
DTSTART:20250309T020000
TZOFFSETFROM:-0600
TZOFFSETTO:-0500
RDATE:20260308T020000
RDATE:20270314T020000
END:DAYLIGHT
END:VTIMEZONE
BEGIN:VEVENT
UID:f2d56d0c-2931-4939-8596-6e6e914fae72
DTSTAMP:20260422T102056Z
DESCRIPTION:
DTSTART;TZID=America/Chicago:20260205T050000
DTEND;TZID=America/Chicago:20260205T050001
LOCATION:
SUMMARY:E.B. Bowl Painting Off SITE
END:VEVENT
END:VCALENDAR
