BEGIN:VCALENDAR
VERSION:2.0
PRODID:-//goodsambwd.org//NONSGML kigkonsult.se iCalcreator 2.30.10//
CALSCALE:GREGORIAN
METHOD:PUBLISH
UID:8d8f9fb9-9f98-4eeb-b071-7b27ac1a1b97
X-WR-CALDESC:
X-WR-RELCALID:de615b6d40de40ebe2e12696cdec1fbb
X-WR-TIMEZONE:America/Chicago
BEGIN:VTIMEZONE
TZID:America/Chicago
BEGIN:STANDARD
TZNAME:CST
DTSTART:20251102T020000
TZOFFSETFROM:-0500
TZOFFSETTO:-0600
RDATE:20261101T020000
END:STANDARD
BEGIN:DAYLIGHT
TZNAME:CDT
DTSTART:20250309T020000
TZOFFSETFROM:-0600
TZOFFSETTO:-0500
RDATE:20260308T020000
RDATE:20270314T020000
END:DAYLIGHT
END:VTIMEZONE
BEGIN:VEVENT
UID:2a98cf07-b5e6-4e57-9e8f-3e4a24224335
DTSTAMP:20260422T102441Z
DESCRIPTION:
DTSTART;TZID=America/Chicago:20260204T173000
DTEND;TZID=America/Chicago:20260204T183000
LOCATION:305 Clark St \, Brownwood \, TX 76801 US
SUMMARY:GSM Bowl Painting
END:VEVENT
END:VCALENDAR
