BEGIN:VCALENDAR
VERSION:2.0
PRODID:-//goodsambwd.org//NONSGML kigkonsult.se iCalcreator 2.30.10//
CALSCALE:GREGORIAN
METHOD:PUBLISH
UID:3cf73c11-6497-4041-ae28-5128d6f612ef
X-WR-CALDESC:
X-WR-RELCALID:f0a0610e51ea306385e802b7e47e35b1
X-WR-TIMEZONE:America/Chicago
BEGIN:VTIMEZONE
TZID:America/Chicago
BEGIN:STANDARD
TZNAME:CST
DTSTART:20251102T020000
TZOFFSETFROM:-0500
TZOFFSETTO:-0600
RDATE:20261101T020000
END:STANDARD
BEGIN:DAYLIGHT
TZNAME:CDT
DTSTART:20250309T020000
TZOFFSETFROM:-0600
TZOFFSETTO:-0500
RDATE:20260308T020000
RDATE:20270314T020000
END:DAYLIGHT
END:VTIMEZONE
BEGIN:VEVENT
UID:63a86604-3e62-4256-b5f4-64c848e8bbbb
DTSTAMP:20260422T131156Z
DESCRIPTION:
DTSTART;TZID=America/Chicago:20251201T050000
DTEND;TZID=America/Chicago:20251205T050001
LOCATION:https://www.mygiving.net/campaign/Giving-Tuesday-Food-4-Thought
SUMMARY:#GivingTuesday - I Live Here\, I Give Here
END:VEVENT
END:VCALENDAR
