BEGIN:VCALENDAR
VERSION:2.0
PRODID:-//goodsambwd.org//NONSGML kigkonsult.se iCalcreator 2.30.10//
CALSCALE:GREGORIAN
METHOD:PUBLISH
UID:5afaa8f1-166f-4fd6-ab7f-0f0fc8cec8dc
X-WR-CALDESC:
X-WR-RELCALID:3bfe7b08b83dfd50e90f1ecec09d1726
X-WR-TIMEZONE:America/Chicago
BEGIN:VTIMEZONE
TZID:America/Chicago
BEGIN:STANDARD
TZNAME:CST
DTSTART:20241103T020000
TZOFFSETFROM:-0500
TZOFFSETTO:-0600
RDATE:20251102T020000
RDATE:20261101T020000
END:STANDARD
BEGIN:DAYLIGHT
TZNAME:CDT
DTSTART:20250309T020000
TZOFFSETFROM:-0600
TZOFFSETTO:-0500
RDATE:20260308T020000
RDATE:20270314T020000
END:DAYLIGHT
END:VTIMEZONE
BEGIN:VEVENT
UID:db3da290-2821-4003-8b46-47ec61513bc8
DTSTAMP:20260422T160851Z
DESCRIPTION:
DTSTART;TZID=America/Chicago:20251031T050000
DTEND;TZID=America/Chicago:20251031T050001
LOCATION:
SUMMARY:Closed
END:VEVENT
END:VCALENDAR
