BEGIN:VCALENDAR
VERSION:2.0
PRODID:-//goodsambwd.org//NONSGML kigkonsult.se iCalcreator 2.30.10//
CALSCALE:GREGORIAN
METHOD:PUBLISH
UID:e60cbcfc-b517-4681-bbe4-2b5273ffff5f
X-WR-CALDESC:
X-WR-RELCALID:df4e29e4bf2efc100a411cd1ebe48c02
X-WR-TIMEZONE:America/Chicago
BEGIN:VTIMEZONE
TZID:America/Chicago
BEGIN:STANDARD
TZNAME:CST
DTSTART:20241103T020000
TZOFFSETFROM:-0500
TZOFFSETTO:-0600
RDATE:20251102T020000
RDATE:20261101T020000
END:STANDARD
BEGIN:DAYLIGHT
TZNAME:CDT
DTSTART:20250309T020000
TZOFFSETFROM:-0600
TZOFFSETTO:-0500
RDATE:20260308T020000
RDATE:20270314T020000
END:DAYLIGHT
END:VTIMEZONE
BEGIN:VEVENT
UID:fcc72900-a7bf-4be3-b1a0-6dbb7648f826
DTSTAMP:20260422T155633Z
DESCRIPTION:
DTSTART;TZID=America/Chicago:20251013T050000
DTEND;TZID=America/Chicago:20251013T050001
LOCATION:
SUMMARY:Closed
END:VEVENT
END:VCALENDAR
