BEGIN:VCALENDAR
VERSION:2.0
PRODID:-//goodsambwd.org//NONSGML kigkonsult.se iCalcreator 2.30.10//
CALSCALE:GREGORIAN
METHOD:PUBLISH
UID:aaf84aeb-ddcb-41ae-8228-48e4ca79916d
X-WR-CALDESC:
X-WR-RELCALID:9c2da78439fd1a4a02719d4b86ead4cc
X-WR-TIMEZONE:America/Chicago
BEGIN:VTIMEZONE
TZID:America/Chicago
BEGIN:STANDARD
TZNAME:CST
DTSTART:20221106T020000
TZOFFSETFROM:-0500
TZOFFSETTO:-0600
RDATE:20231105T020000
END:STANDARD
BEGIN:DAYLIGHT
TZNAME:CDT
DTSTART:20230312T020000
TZOFFSETFROM:-0600
TZOFFSETTO:-0500
RDATE:20240310T020000
END:DAYLIGHT
END:VTIMEZONE
BEGIN:VEVENT
UID:6f112e2b-d8c8-499d-b926-4a1cd0d944d4
DTSTAMP:20260422T214715Z
DESCRIPTION:
DTSTART;TZID=America/Chicago:20230323T100000
DTEND;TZID=America/Chicago:20230323T110000
LOCATION:Brownwood Coliseum
SUMMARY:VIP E.B. Bowl Preview
END:VEVENT
END:VCALENDAR
