BEGIN:VCALENDAR
VERSION:2.0
PRODID:-//goodsambwd.org//NONSGML kigkonsult.se iCalcreator 2.30.10//
CALSCALE:GREGORIAN
METHOD:PUBLISH
UID:3c489672-8534-4b05-9b04-24812c4183da
X-WR-CALDESC:
X-WR-RELCALID:f13ef32414a2d3d28486d4d6c814cc3f
X-WR-TIMEZONE:America/Chicago
BEGIN:VTIMEZONE
TZID:America/Chicago
BEGIN:STANDARD
TZNAME:CST
DTSTART:20221106T020000
TZOFFSETFROM:-0500
TZOFFSETTO:-0600
RDATE:20231105T020000
END:STANDARD
BEGIN:DAYLIGHT
TZNAME:CDT
DTSTART:20230312T020000
TZOFFSETFROM:-0600
TZOFFSETTO:-0500
RDATE:20240310T020000
END:DAYLIGHT
END:VTIMEZONE
BEGIN:VEVENT
UID:8cb4364e-7aca-49ba-bf7c-7bb94c3b7b72
DTSTAMP:20260422T214751Z
DESCRIPTION:
DTSTART;TZID=America/Chicago:20230318T113000
DTEND;TZID=America/Chicago:20230318T120000
LOCATION:305 Clark St\, Brownwood \, TX 76801 US
SUMMARY:The Empty Bowls Vault
END:VEVENT
END:VCALENDAR
