BEGIN:VCALENDAR
VERSION:2.0
PRODID:-//goodsambwd.org//NONSGML kigkonsult.se iCalcreator 2.30.10//
CALSCALE:GREGORIAN
METHOD:PUBLISH
UID:2d1e7f87-4ec9-489f-942c-fa6f9a3e93f6
X-WR-CALDESC:
X-WR-RELCALID:18a808bc56f5a5848d59788afede4838
X-WR-TIMEZONE:America/Chicago
BEGIN:VTIMEZONE
TZID:America/Chicago
BEGIN:STANDARD
TZNAME:CST
DTSTART:20221106T020000
TZOFFSETFROM:-0500
TZOFFSETTO:-0600
RDATE:20231105T020000
END:STANDARD
BEGIN:DAYLIGHT
TZNAME:CDT
DTSTART:20230312T020000
TZOFFSETFROM:-0600
TZOFFSETTO:-0500
RDATE:20240310T020000
END:DAYLIGHT
END:VTIMEZONE
BEGIN:VEVENT
UID:923b1665-971d-43f4-93fd-ffc6d446990e
DTSTAMP:20260422T214926Z
DESCRIPTION:
DTSTART;TZID=America/Chicago:20230318T100000
DTEND;TZID=America/Chicago:20230318T103000
LOCATION:305 Clark St\, Brownwood \, TX 76801 US
SUMMARY:The Empty Bowls Vault
END:VEVENT
END:VCALENDAR
