BEGIN:VCALENDAR
VERSION:2.0
PRODID:-//goodsambwd.org//NONSGML kigkonsult.se iCalcreator 2.30.10//
CALSCALE:GREGORIAN
METHOD:PUBLISH
UID:d9049f10-c1a3-44a2-a2c3-c482808c4e2d
X-WR-CALDESC:
X-WR-RELCALID:9b039edaa8b21ef8326bdd0ac1298aa5
X-WR-TIMEZONE:America/Chicago
BEGIN:VTIMEZONE
TZID:America/Chicago
BEGIN:STANDARD
TZNAME:CST
DTSTART:20221106T020000
TZOFFSETFROM:-0500
TZOFFSETTO:-0600
RDATE:20231105T020000
END:STANDARD
BEGIN:DAYLIGHT
TZNAME:CDT
DTSTART:20220313T020000
TZOFFSETFROM:-0600
TZOFFSETTO:-0500
RDATE:20230312T020000
RDATE:20240310T020000
END:DAYLIGHT
END:VTIMEZONE
BEGIN:VEVENT
UID:242edd27-6754-49b7-bb24-6a9b46765a68
DTSTAMP:20260422T202948Z
DESCRIPTION:
DTSTART;TZID=America/Chicago:20230215T153000
DTEND;TZID=America/Chicago:20230215T170000
LOCATION:
SUMMARY:GSM Painting
END:VEVENT
END:VCALENDAR
