BEGIN:VCALENDAR
VERSION:2.0
PRODID:-//goodsambwd.org//NONSGML kigkonsult.se iCalcreator 2.30.10//
CALSCALE:GREGORIAN
METHOD:PUBLISH
UID:0849c97c-b974-4aef-966a-44ece4e27c6e
X-WR-CALDESC:
X-WR-RELCALID:be403406b7037df05d7dc3271dbf7b81
X-WR-TIMEZONE:America/Chicago
BEGIN:VTIMEZONE
TZID:America/Chicago
BEGIN:STANDARD
TZNAME:CST
DTSTART:20221106T020000
TZOFFSETFROM:-0500
TZOFFSETTO:-0600
RDATE:20231105T020000
END:STANDARD
BEGIN:DAYLIGHT
TZNAME:CDT
DTSTART:20220313T020000
TZOFFSETFROM:-0600
TZOFFSETTO:-0500
RDATE:20230312T020000
RDATE:20240310T020000
END:DAYLIGHT
END:VTIMEZONE
BEGIN:VEVENT
UID:a5c8c404-efb7-4f17-b5ed-17881fd72d86
DTSTAMP:20260422T202955Z
DESCRIPTION:
DTSTART;TZID=America/Chicago:20230213T173000
DTEND;TZID=America/Chicago:20230213T190000
LOCATION:GSM
SUMMARY:Bowl Painting Party
END:VEVENT
END:VCALENDAR
