BEGIN:VCALENDAR
VERSION:2.0
PRODID:-//goodsambwd.org//NONSGML kigkonsult.se iCalcreator 2.30.10//
CALSCALE:GREGORIAN
METHOD:PUBLISH
UID:f88c7d5f-71b6-4f91-a046-98fb2632b1ab
X-WR-CALDESC:
X-WR-RELCALID:eacc8ac66ec7d1a2a5e0ff8f9ece1eb4
X-WR-TIMEZONE:America/Chicago
BEGIN:VTIMEZONE
TZID:America/Chicago
BEGIN:STANDARD
TZNAME:CST
DTSTART:20221106T020000
TZOFFSETFROM:-0500
TZOFFSETTO:-0600
RDATE:20231105T020000
END:STANDARD
BEGIN:DAYLIGHT
TZNAME:CDT
DTSTART:20220313T020000
TZOFFSETFROM:-0600
TZOFFSETTO:-0500
RDATE:20230312T020000
RDATE:20240310T020000
END:DAYLIGHT
END:VTIMEZONE
BEGIN:VEVENT
UID:957dd030-b475-40e5-8da1-16d7c23885e3
DTSTAMP:20260422T202902Z
DESCRIPTION:
DTSTART;TZID=America/Chicago:20230208T153000
DTEND;TZID=America/Chicago:20230208T170000
LOCATION:
SUMMARY:GSM Painting
END:VEVENT
END:VCALENDAR
