BEGIN:VCALENDAR
VERSION:2.0
PRODID:-//goodsambwd.org//NONSGML kigkonsult.se iCalcreator 2.30.10//
CALSCALE:GREGORIAN
METHOD:PUBLISH
UID:f7f14a1c-64f6-43f3-91fe-24dd78d17274
X-WR-CALDESC:
X-WR-RELCALID:97e45345690d498c601d2f25dbcc552d
X-WR-TIMEZONE:America/Chicago
BEGIN:VTIMEZONE
TZID:America/Chicago
BEGIN:STANDARD
TZNAME:CST
DTSTART:20221106T020000
TZOFFSETFROM:-0500
TZOFFSETTO:-0600
RDATE:20231105T020000
END:STANDARD
BEGIN:DAYLIGHT
TZNAME:CDT
DTSTART:20220313T020000
TZOFFSETFROM:-0600
TZOFFSETTO:-0500
RDATE:20230312T020000
RDATE:20240310T020000
END:DAYLIGHT
END:VTIMEZONE
BEGIN:VEVENT
UID:7ec05f7d-310a-4403-80df-3aa3053d8625
DTSTAMP:20260422T202908Z
DESCRIPTION:
DTSTART;TZID=America/Chicago:20230201T153000
DTEND;TZID=America/Chicago:20230201T170000
LOCATION:GSM
SUMMARY:GSM Painting
END:VEVENT
END:VCALENDAR
