BEGIN:VCALENDAR
VERSION:2.0
PRODID:-//goodsambwd.org//NONSGML kigkonsult.se iCalcreator 2.30.10//
CALSCALE:GREGORIAN
METHOD:PUBLISH
UID:fa4bd602-9fbf-494e-8001-bf23e6280410
X-WR-CALDESC:
X-WR-RELCALID:de7ae4c82ca9d4f4497dececb6c2c99a
X-WR-TIMEZONE:America/Chicago
BEGIN:VTIMEZONE
TZID:America/Chicago
BEGIN:STANDARD
TZNAME:CST
DTSTART:20221106T020000
TZOFFSETFROM:-0500
TZOFFSETTO:-0600
RDATE:20231105T020000
END:STANDARD
BEGIN:DAYLIGHT
TZNAME:CDT
DTSTART:20220313T020000
TZOFFSETFROM:-0600
TZOFFSETTO:-0500
RDATE:20230312T020000
RDATE:20240310T020000
END:DAYLIGHT
END:VTIMEZONE
BEGIN:VEVENT
UID:89f9e38c-25bb-48b0-8fe9-0cbfff78aa24
DTSTAMP:20260422T190121Z
DESCRIPTION:
DTSTART;TZID=America/Chicago:20230125T153000
DTEND;TZID=America/Chicago:20230125T170000
LOCATION:GSM
SUMMARY:GSM Painting
END:VEVENT
END:VCALENDAR
