BEGIN:VCALENDAR
VERSION:2.0
PRODID:-//goodsambwd.org//NONSGML kigkonsult.se iCalcreator 2.30.10//
CALSCALE:GREGORIAN
METHOD:PUBLISH
UID:eb5504be-ab40-48eb-bf44-54df50672235
X-WR-CALDESC:
X-WR-RELCALID:8ee369e8018a0904442465a6aabb22de
X-WR-TIMEZONE:America/Chicago
BEGIN:VTIMEZONE
TZID:America/Chicago
BEGIN:STANDARD
TZNAME:CST
DTSTART:20221106T020000
TZOFFSETFROM:-0500
TZOFFSETTO:-0600
RDATE:20231105T020000
END:STANDARD
BEGIN:DAYLIGHT
TZNAME:CDT
DTSTART:20220313T020000
TZOFFSETFROM:-0600
TZOFFSETTO:-0500
RDATE:20230312T020000
RDATE:20240310T020000
END:DAYLIGHT
END:VTIMEZONE
BEGIN:VEVENT
UID:926d9ea8-0c72-4e02-b8b9-ab5cd34512fd
DTSTAMP:20260422T185845Z
DESCRIPTION:
DTSTART;TZID=America/Chicago:20230123T173000
DTEND;TZID=America/Chicago:20230123T190000
LOCATION:GSM
SUMMARY:Bowl Painting Party
END:VEVENT
END:VCALENDAR
