BEGIN:VCALENDAR
VERSION:2.0
PRODID:-//goodsambwd.org//NONSGML kigkonsult.se iCalcreator 2.30.10//
CALSCALE:GREGORIAN
METHOD:PUBLISH
UID:89d1cd81-014e-4063-889b-3bafcce0ceb8
X-WR-CALDESC:
X-WR-RELCALID:241e352dbd31db7551457008c7240da3
X-WR-TIMEZONE:America/Chicago
BEGIN:VTIMEZONE
TZID:America/Chicago
BEGIN:STANDARD
TZNAME:CST
DTSTART:20211107T020000
TZOFFSETFROM:-0500
TZOFFSETTO:-0600
RDATE:20221106T020000
RDATE:20231105T020000
END:STANDARD
BEGIN:DAYLIGHT
TZNAME:CDT
DTSTART:20220313T020000
TZOFFSETFROM:-0600
TZOFFSETTO:-0500
RDATE:20230312T020000
RDATE:20240310T020000
END:DAYLIGHT
END:VTIMEZONE
BEGIN:VEVENT
UID:5e17d7c5-fa33-4814-934b-ba536525981d
DTSTAMP:20260422T130904Z
DESCRIPTION:
DTSTART;TZID=America/Chicago:20220930T000000
DTEND;TZID=America/Chicago:20220930T235900
LOCATION:
SUMMARY:GSM Closed
END:VEVENT
END:VCALENDAR
