BEGIN:VCALENDAR
VERSION:2.0
PRODID:-//goodsambwd.org//NONSGML kigkonsult.se iCalcreator 2.30.10//
CALSCALE:GREGORIAN
METHOD:PUBLISH
UID:1a2284ce-630e-47ea-8ba5-e952bf279339
X-WR-CALDESC:
X-WR-RELCALID:c241e3fcbd9aee81eb80408409e739e6
X-WR-TIMEZONE:America/Chicago
BEGIN:VTIMEZONE
TZID:America/Chicago
BEGIN:STANDARD
TZNAME:CST
DTSTART:20211107T020000
TZOFFSETFROM:-0500
TZOFFSETTO:-0600
RDATE:20221106T020000
RDATE:20231105T020000
END:STANDARD
BEGIN:DAYLIGHT
TZNAME:CDT
DTSTART:20220313T020000
TZOFFSETFROM:-0600
TZOFFSETTO:-0500
RDATE:20230312T020000
RDATE:20240310T020000
END:DAYLIGHT
END:VTIMEZONE
BEGIN:VEVENT
UID:a910b38a-108f-4ddf-93a4-7d79ca63a1ff
DTSTAMP:20260422T130949Z
DESCRIPTION:
DTSTART;TZID=America/Chicago:20220921T103000
DTEND;TZID=America/Chicago:20220921T113000
LOCATION:
SUMMARY:Civil Rights Trng.
END:VEVENT
END:VCALENDAR
