BEGIN:VCALENDAR
VERSION:2.0
PRODID:-//goodsambwd.org//NONSGML kigkonsult.se iCalcreator 2.30.10//
CALSCALE:GREGORIAN
METHOD:PUBLISH
UID:067b6a54-cfd7-4371-baba-9761f8171f43
X-WR-CALDESC:
X-WR-RELCALID:cac2356f04918de52453ff41f1ca8782
X-WR-TIMEZONE:America/Chicago
BEGIN:VTIMEZONE
TZID:America/Chicago
BEGIN:STANDARD
TZNAME:CST
DTSTART:20211107T020000
TZOFFSETFROM:-0500
TZOFFSETTO:-0600
RDATE:20221106T020000
RDATE:20231105T020000
END:STANDARD
BEGIN:DAYLIGHT
TZNAME:CDT
DTSTART:20220313T020000
TZOFFSETFROM:-0600
TZOFFSETTO:-0500
RDATE:20230312T020000
RDATE:20240310T020000
END:DAYLIGHT
END:VTIMEZONE
BEGIN:VEVENT
UID:4bfc929b-2447-4607-a228-6ba022b3e35f
DTSTAMP:20260422T131324Z
DESCRIPTION:
DTSTART;TZID=America/Chicago:20220914T103000
DTEND;TZID=America/Chicago:20220914T113000
LOCATION:
SUMMARY:Civil Rights Trng.
END:VEVENT
END:VCALENDAR
