BEGIN:VCALENDAR
VERSION:2.0
PRODID:-//goodsambwd.org//NONSGML kigkonsult.se iCalcreator 2.30.10//
CALSCALE:GREGORIAN
METHOD:PUBLISH
UID:494ae7e7-bfe1-45b8-916a-3a9e98d609ed
X-WR-CALDESC:Abundant Living\, Simple Giving breakfast raising funds for th
 e Christmas boxes.
X-WR-RELCALID:83a1794ec821fac1d3dee47a6d7c02b9
X-WR-TIMEZONE:America/Chicago
BEGIN:VTIMEZONE
TZID:America/Chicago
BEGIN:STANDARD
TZNAME:CST
DTSTART:20211107T020000
TZOFFSETFROM:-0500
TZOFFSETTO:-0600
RDATE:20221106T020000
RDATE:20231105T020000
END:STANDARD
BEGIN:DAYLIGHT
TZNAME:CDT
DTSTART:20220313T020000
TZOFFSETFROM:-0600
TZOFFSETTO:-0500
RDATE:20230312T020000
END:DAYLIGHT
END:VTIMEZONE
BEGIN:VEVENT
UID:3eb5885d-51c5-4631-8ba8-6f413d591950
DTSTAMP:20260422T101002Z
DESCRIPTION:Abundant Living\, Simple Giving breakfast raising funds for the
  Christmas boxes.
DTSTART;TZID=America/Chicago:20220727T070000
DTEND;TZID=America/Chicago:20220727T090000
LOCATION:
SUMMARY:Abundant Living\, Simple Giving
END:VEVENT
END:VCALENDAR
