BEGIN:VCALENDAR
VERSION:2.0
PRODID:-//goodsambwd.org//NONSGML kigkonsult.se iCalcreator 2.30.10//
CALSCALE:GREGORIAN
METHOD:PUBLISH
UID:52cf9a8b-c731-4669-8767-6a1d835664b3
X-WR-CALDESC:WE will be closed in observance of the 4th of July holiday.
X-WR-RELCALID:d6cb57dba39a94b761753cc8fc05f8c9
X-WR-TIMEZONE:America/Chicago
BEGIN:VTIMEZONE
TZID:America/Chicago
BEGIN:STANDARD
TZNAME:CST
DTSTART:20211107T020000
TZOFFSETFROM:-0500
TZOFFSETTO:-0600
RDATE:20221106T020000
RDATE:20231105T020000
END:STANDARD
BEGIN:DAYLIGHT
TZNAME:CDT
DTSTART:20220313T020000
TZOFFSETFROM:-0600
TZOFFSETTO:-0500
RDATE:20230312T020000
END:DAYLIGHT
END:VTIMEZONE
BEGIN:VEVENT
UID:693169be-d4fe-41ba-8989-b565874c5bdf
DTSTAMP:20260422T100206Z
DESCRIPTION:WE will be closed in observance of the 4th of July holiday.
DTSTART;TZID=America/Chicago:20220704T000000
DTEND;TZID=America/Chicago:20220704T235900
LOCATION:
SUMMARY:Closed
END:VEVENT
END:VCALENDAR
