BEGIN:VCALENDAR
VERSION:2.0
PRODID:-//goodsambwd.org//NONSGML kigkonsult.se iCalcreator 2.30.10//
CALSCALE:GREGORIAN
METHOD:PUBLISH
UID:7083d5a1-78de-4f13-9bad-74de71b29eb4
X-WR-CALDESC:Come say farewell\, see you later to Marie Smith our Resale St
 ore Manager. Marie has faithfully served the ministry for four years and i
 s moving on to follow her dreams. Please come by from 1-4 pm.
X-WR-RELCALID:18ded35167e2464671b522d9855ecb33
X-WR-TIMEZONE:America/Chicago
BEGIN:VTIMEZONE
TZID:America/Chicago
BEGIN:STANDARD
TZNAME:CST
DTSTART:20211107T020000
TZOFFSETFROM:-0500
TZOFFSETTO:-0600
RDATE:20221106T020000
RDATE:20231105T020000
END:STANDARD
BEGIN:DAYLIGHT
TZNAME:CDT
DTSTART:20220313T020000
TZOFFSETFROM:-0600
TZOFFSETTO:-0500
RDATE:20230312T020000
END:DAYLIGHT
END:VTIMEZONE
BEGIN:VEVENT
UID:2857c6a0-8b1f-425d-ab53-b898f528357a
DTSTAMP:20260422T084257Z
DESCRIPTION:Come say farewell\, see you later to Marie Smith our Resale Sto
 re Manager. Marie has faithfully served the ministry for four years and is
  moving on to follow her dreams. Please come by from 1-4 pm.
DTSTART;TZID=America/Chicago:20220629T130000
DTEND;TZID=America/Chicago:20220629T160000
LOCATION:
SUMMARY:Goodbye Marie
END:VEVENT
END:VCALENDAR
