BEGIN:VCALENDAR
VERSION:2.0
PRODID:-//goodsambwd.org//NONSGML kigkonsult.se iCalcreator 2.30.10//
CALSCALE:GREGORIAN
METHOD:PUBLISH
UID:f14418b2-2395-4940-84ff-34a32d0c74d3
X-WR-CALDESC:
X-WR-RELCALID:956dae010e5d79aa0c29f754df920377
X-WR-TIMEZONE:America/Chicago
BEGIN:VTIMEZONE
TZID:America/Chicago
BEGIN:STANDARD
TZNAME:CST
DTSTART:20211107T020000
TZOFFSETFROM:-0500
TZOFFSETTO:-0600
RDATE:20221106T020000
END:STANDARD
BEGIN:DAYLIGHT
TZNAME:CDT
DTSTART:20220313T020000
TZOFFSETFROM:-0600
TZOFFSETTO:-0500
RDATE:20230312T020000
END:DAYLIGHT
END:VTIMEZONE
BEGIN:VEVENT
UID:86bbb8b1-fff6-47df-a620-6ff4c2df62b9
DTSTAMP:20260422T054657Z
DESCRIPTION:
DTSTART;TZID=America/Chicago:20220417T093000
DTEND;TZID=America/Chicago:20220417T103000
LOCATION:
SUMMARY:Easter
END:VEVENT
END:VCALENDAR
