BEGIN:VCALENDAR
VERSION:2.0
PRODID:-//goodsambwd.org//NONSGML kigkonsult.se iCalcreator 2.30.10//
CALSCALE:GREGORIAN
METHOD:PUBLISH
UID:c53776f1-d1bc-43a3-b3be-95b5ed13b99b
X-WR-CALDESC:
X-WR-RELCALID:c98af4b0134effeb91b605a1d863ee68
X-WR-TIMEZONE:America/Chicago
BEGIN:VTIMEZONE
TZID:America/Chicago
BEGIN:STANDARD
TZNAME:CST
DTSTART:20211107T020000
TZOFFSETFROM:-0500
TZOFFSETTO:-0600
RDATE:20221106T020000
END:STANDARD
BEGIN:DAYLIGHT
TZNAME:CDT
DTSTART:20220313T020000
TZOFFSETFROM:-0600
TZOFFSETTO:-0500
RDATE:20230312T020000
END:DAYLIGHT
END:VTIMEZONE
BEGIN:VEVENT
UID:321532a0-1892-4a1c-9aec-c6800ff223ed
DTSTAMP:20260422T054517Z
DESCRIPTION:
DTSTART;TZID=America/Chicago:20220415T000000
DTEND;TZID=America/Chicago:20220415T235900
LOCATION:
SUMMARY:GSM CLOSED - Good Friday
END:VEVENT
END:VCALENDAR
