BEGIN:VCALENDAR
VERSION:2.0
PRODID:-//goodsambwd.org//NONSGML kigkonsult.se iCalcreator 2.30.10//
CALSCALE:GREGORIAN
METHOD:PUBLISH
UID:f2932436-17ea-4895-87f7-e14a8996b45c
X-WR-CALDESC:Thank you to all our many volunteers!
X-WR-RELCALID:ba262e47100186951cb687f9f262c4e3
X-WR-TIMEZONE:America/Chicago
BEGIN:VTIMEZONE
TZID:America/Chicago
BEGIN:STANDARD
TZNAME:CST
DTSTART:20211107T020000
TZOFFSETFROM:-0500
TZOFFSETTO:-0600
RDATE:20221106T020000
END:STANDARD
BEGIN:DAYLIGHT
TZNAME:CDT
DTSTART:20220313T020000
TZOFFSETFROM:-0600
TZOFFSETTO:-0500
RDATE:20230312T020000
END:DAYLIGHT
END:VTIMEZONE
BEGIN:VEVENT
UID:d5c410b9-686f-4248-96f1-1e4384d23239
DTSTAMP:20260422T054707Z
DESCRIPTION:Thank you to all our many volunteers!
DTSTART;TZID=America/Chicago:20220401T000000
DTEND;TZID=America/Chicago:20220430T225900
LOCATION:
SUMMARY:Volunteer Appreciation Month
END:VEVENT
END:VCALENDAR
