BEGIN:VCALENDAR
VERSION:2.0
PRODID:-//goodsambwd.org//NONSGML kigkonsult.se iCalcreator 2.30.10//
CALSCALE:GREGORIAN
METHOD:PUBLISH
UID:d51b5e58-51ce-4e2c-8f97-212c2cea4d0f
X-WR-CALDESC:
X-WR-RELCALID:bb2acb31defda7a582dee483928a50d0
X-WR-TIMEZONE:America/Chicago
BEGIN:VTIMEZONE
TZID:America/Chicago
BEGIN:STANDARD
TZNAME:CST
DTSTART:20211107T020000
TZOFFSETFROM:-0500
TZOFFSETTO:-0600
RDATE:20221106T020000
END:STANDARD
BEGIN:DAYLIGHT
TZNAME:CDT
DTSTART:20210314T020000
TZOFFSETFROM:-0600
TZOFFSETTO:-0500
RDATE:20220313T020000
RDATE:20230312T020000
END:DAYLIGHT
END:VTIMEZONE
BEGIN:VEVENT
UID:4a177c22-3d64-4a6e-a6a1-828be370c1be
DTSTAMP:20260420T013441Z
DESCRIPTION:
DTSTART;TZID=America/Chicago:20211224T000000
DTEND;TZID=America/Chicago:20220103T235900
LOCATION:
SUMMARY:Closed for Christmas Holiday
END:VEVENT
END:VCALENDAR
