BEGIN:VCALENDAR
VERSION:2.0
PRODID:-//goodsambwd.org//NONSGML kigkonsult.se iCalcreator 2.30.10//
CALSCALE:GREGORIAN
METHOD:PUBLISH
UID:dc51e4ae-4316-49dd-89ea-693535207370
X-WR-CALDESC:
X-WR-RELCALID:9c2de668f15467541afe070d4dcaa2a7
X-WR-TIMEZONE:America/Chicago
BEGIN:VTIMEZONE
TZID:America/Chicago
BEGIN:STANDARD
TZNAME:CST
DTSTART:20211107T020000
TZOFFSETFROM:-0500
TZOFFSETTO:-0600
RDATE:20221106T020000
END:STANDARD
BEGIN:DAYLIGHT
TZNAME:CDT
DTSTART:20210314T020000
TZOFFSETFROM:-0600
TZOFFSETTO:-0500
RDATE:20220313T020000
RDATE:20230312T020000
END:DAYLIGHT
END:VTIMEZONE
BEGIN:VEVENT
UID:8a65772b-087d-456f-a7a0-9a42166dbfb8
DTSTAMP:20260421T222524Z
DESCRIPTION:
DTSTART;TZID=America/Chicago:20211125T000000
DTEND;TZID=America/Chicago:20211126T235900
LOCATION:
SUMMARY:Closed for Thanksgiving Holiday
END:VEVENT
END:VCALENDAR
