BEGIN:VCALENDAR
VERSION:2.0
PRODID:-//goodsambwd.org//NONSGML kigkonsult.se iCalcreator 2.30.10//
CALSCALE:GREGORIAN
METHOD:PUBLISH
UID:96d8faf6-b905-43ed-bc3a-5f781a44f09d
X-WR-CALDESC:We need your group\, family\, business to come help pack Chris
 tmas boxes for distribution in December. We will be packing 800 boxes this
  year. Check the calendar or call 325-643-2273 to schedule your group.
X-WR-RELCALID:fb926ded9da21d790e6c58cebdcdd990
X-WR-TIMEZONE:America/Chicago
BEGIN:VTIMEZONE
TZID:America/Chicago
BEGIN:STANDARD
TZNAME:CST
DTSTART:20211107T020000
TZOFFSETFROM:-0500
TZOFFSETTO:-0600
RDATE:20221106T020000
END:STANDARD
BEGIN:DAYLIGHT
TZNAME:CDT
DTSTART:20210314T020000
TZOFFSETFROM:-0600
TZOFFSETTO:-0500
RDATE:20220313T020000
RDATE:20230312T020000
END:DAYLIGHT
END:VTIMEZONE
BEGIN:VEVENT
UID:5d1414c8-8443-4221-9040-66e6a456a6c0
DTSTAMP:20260421T221051Z
DESCRIPTION:We need your group\, family\, business to come help pack Christ
 mas boxes for distribution in December. We will be packing 800 boxes this 
 year. Check the calendar or call 325-643-2273 to schedule your group.
DTSTART;TZID=America/Chicago:20211120T100000
DTEND;TZID=America/Chicago:20211120T140000
LOCATION:305 Clark St\, Brownwood \, TX 76801 US
SUMMARY:Pack Christmas boxes
END:VEVENT
END:VCALENDAR
