BEGIN:VCALENDAR
VERSION:2.0
PRODID:-//goodsambwd.org//NONSGML kigkonsult.se iCalcreator 2.30.10//
CALSCALE:GREGORIAN
METHOD:PUBLISH
UID:287483f7-36db-4c38-9df5-69da8e99f25e
X-WR-CALDESC:We need your group\, family\, business to come help pack Chris
 tmas boxes for distribution in December. We will be packing 800 boxes this
  year. Check the calendar or call 325-643-2273 to schedule your group.
X-WR-RELCALID:080462875849a91d5ae5d090b8929e75
X-WR-TIMEZONE:America/Chicago
BEGIN:VTIMEZONE
TZID:America/Chicago
BEGIN:STANDARD
TZNAME:CST
DTSTART:20211107T020000
TZOFFSETFROM:-0500
TZOFFSETTO:-0600
RDATE:20221106T020000
END:STANDARD
BEGIN:DAYLIGHT
TZNAME:CDT
DTSTART:20210314T020000
TZOFFSETFROM:-0600
TZOFFSETTO:-0500
RDATE:20220313T020000
RDATE:20230312T020000
END:DAYLIGHT
END:VTIMEZONE
BEGIN:VEVENT
UID:774ac8f3-a7de-43f0-8dc1-48be4659edf1
DTSTAMP:20260421T220132Z
DESCRIPTION:We need your group\, family\, business to come help pack Christ
 mas boxes for distribution in December. We will be packing 800 boxes this 
 year. Check the calendar or call 325-643-2273 to schedule your group.
DTSTART;TZID=America/Chicago:20211117T183000
DTEND;TZID=America/Chicago:20211117T193000
LOCATION:305 Clark St\, Brownwood \, TX 76801 US
SUMMARY:Pack Christmas boxes
END:VEVENT
END:VCALENDAR
