BEGIN:VCALENDAR
VERSION:2.0
PRODID:-//goodsambwd.org//NONSGML kigkonsult.se iCalcreator 2.30.10//
CALSCALE:GREGORIAN
METHOD:PUBLISH
UID:8a962624-0c34-4b9d-bc20-e60c1675b131
X-WR-CALDESC:We need your group\, family\, business to come help pack Chris
 tmas boxes for distribution in December. We will be packing 800 boxes this
  year. Check the calendar or call 325-643-2273 to schedule your group.
X-WR-RELCALID:0ec717e853113e72b552b032a407cda5
X-WR-TIMEZONE:America/Chicago
BEGIN:VTIMEZONE
TZID:America/Chicago
BEGIN:STANDARD
TZNAME:CST
DTSTART:20211107T020000
TZOFFSETFROM:-0500
TZOFFSETTO:-0600
RDATE:20221106T020000
END:STANDARD
BEGIN:DAYLIGHT
TZNAME:CDT
DTSTART:20210314T020000
TZOFFSETFROM:-0600
TZOFFSETTO:-0500
RDATE:20220313T020000
RDATE:20230312T020000
END:DAYLIGHT
END:VTIMEZONE
BEGIN:VEVENT
UID:e93e26e5-f9ef-46f6-aed4-c5a9c945449c
DTSTAMP:20260421T220344Z
DESCRIPTION:We need your group\, family\, business to come help pack Christ
 mas boxes for distribution in December. We will be packing 800 boxes this 
 year. Check the calendar or call 325-643-2273 to schedule your group.
DTSTART;TZID=America/Chicago:20211110T183000
DTEND;TZID=America/Chicago:20211110T193000
LOCATION:305 Clark St\, Brownwood \, TX 76801 US
SUMMARY:Pack Christmas boxes
END:VEVENT
END:VCALENDAR
