BEGIN:VCALENDAR
VERSION:2.0
PRODID:-//goodsambwd.org//NONSGML kigkonsult.se iCalcreator 2.30.10//
CALSCALE:GREGORIAN
METHOD:PUBLISH
UID:ea405a07-7f02-4444-9795-aa13d5686846
X-WR-CALDESC:We need your group\, family\, business to come help pack Chris
 tmas boxes for distribution in December. We will be packing 800 boxes this
  year. Check the calendar or call 325-643-2273 to schedule your group.
X-WR-RELCALID:a5c3f1580f6835af2c5536c3fd64bf24
X-WR-TIMEZONE:America/Chicago
BEGIN:VTIMEZONE
TZID:America/Chicago
BEGIN:STANDARD
TZNAME:CST
DTSTART:20211107T020000
TZOFFSETFROM:-0500
TZOFFSETTO:-0600
RDATE:20221106T020000
END:STANDARD
BEGIN:DAYLIGHT
TZNAME:CDT
DTSTART:20210314T020000
TZOFFSETFROM:-0600
TZOFFSETTO:-0500
RDATE:20220313T020000
RDATE:20230312T020000
END:DAYLIGHT
END:VTIMEZONE
BEGIN:VEVENT
UID:3f3b45d5-fa3d-41b7-8caf-f88fe7d7b0ca
DTSTAMP:20260421T221444Z
DESCRIPTION:We need your group\, family\, business to come help pack Christ
 mas boxes for distribution in December. We will be packing 800 boxes this 
 year. Check the calendar or call 325-643-2273 to schedule your group.
DTSTART;TZID=America/Chicago:20211110T173000
DTEND;TZID=America/Chicago:20211110T183000
LOCATION:305 Clark St\, Brownwood \, TX 76801 US
SUMMARY:Pack Christmas boxes
END:VEVENT
END:VCALENDAR
