BEGIN:VCALENDAR
VERSION:2.0
PRODID:-//goodsambwd.org//NONSGML kigkonsult.se iCalcreator 2.30.10//
CALSCALE:GREGORIAN
METHOD:PUBLISH
UID:01aacede-cbbf-434f-9aca-61bdf1cf4132
X-WR-CALDESC:The Abundant Living\, Simple Giving Chili lunch to support the
  Deer Project in November 3rd. The challenge is to find 100 folks to donat
 e $100 each to support the Deer Project. All funds raised will go to cover
  processing costs. Lunch is from 11 a.m. - 1 p.m. We will have chili\, bak
 ed potatoes\, fritos and all the trimmings. Carry out will be available. C
 all Stacy at 325-643-2273 for more information.
X-WR-RELCALID:6d50fd660a6dce24495c94bf76dbe076
X-WR-TIMEZONE:America/Chicago
BEGIN:VTIMEZONE
TZID:America/Chicago
BEGIN:STANDARD
TZNAME:CST
DTSTART:20211107T020000
TZOFFSETFROM:-0500
TZOFFSETTO:-0600
RDATE:20221106T020000
END:STANDARD
BEGIN:DAYLIGHT
TZNAME:CDT
DTSTART:20210314T020000
TZOFFSETFROM:-0600
TZOFFSETTO:-0500
RDATE:20220313T020000
RDATE:20230312T020000
END:DAYLIGHT
END:VTIMEZONE
BEGIN:VEVENT
UID:434d8f9e-b5a2-4e68-972a-eb1e00cd270f
DTSTAMP:20260421T220020Z
DESCRIPTION:The Abundant Living\, Simple Giving Chili lunch to support the 
 Deer Project in November 3rd. The challenge is to find 100 folks to donate
  $100 each to support the Deer Project. All funds raised will go to cover 
 processing costs. Lunch is from 11 a.m. - 1 p.m. We will have chili\, bake
 d potatoes\, fritos and all the trimmings. Carry out will be available. Ca
 ll Stacy at 325-643-2273 for more information.
DTSTART;TZID=America/Chicago:20211103T110000
DTEND;TZID=America/Chicago:20211103T130000
LOCATION:305 Clark St - Food Pantry Warehouse \, Brownwood \, TX 76801 US
SUMMARY:Chili Lunch - Deer Project
END:VEVENT
END:VCALENDAR
