BEGIN:VCALENDAR
VERSION:2.0
PRODID:-//goodsambwd.org//NONSGML kigkonsult.se iCalcreator 2.30.10//
CALSCALE:GREGORIAN
METHOD:PUBLISH
UID:b8b3eafd-092f-4512-a72a-966d55d04b78
X-WR-CALDESC:
X-WR-RELCALID:5844d8fae05bb24cb3288f584745a6ba
X-WR-TIMEZONE:America/Chicago
BEGIN:VTIMEZONE
TZID:America/Chicago
BEGIN:STANDARD
TZNAME:CST
DTSTART:20201101T020000
TZOFFSETFROM:-0500
TZOFFSETTO:-0600
RDATE:20211107T020000
RDATE:20221106T020000
END:STANDARD
BEGIN:DAYLIGHT
TZNAME:CDT
DTSTART:20210314T020000
TZOFFSETFROM:-0600
TZOFFSETTO:-0500
RDATE:20220313T020000
RDATE:20230312T020000
END:DAYLIGHT
END:VTIMEZONE
BEGIN:VEVENT
UID:1558028b-8992-4ceb-9f21-423ac42a3f0a
DTSTAMP:20260421T204452Z
DESCRIPTION:
DTSTART;TZID=America/Chicago:20211029T000000
DTEND;TZID=America/Chicago:20211029T235900
LOCATION:
SUMMARY:CLOSED-Fifth Friday
END:VEVENT
END:VCALENDAR
