BEGIN:VCALENDAR
VERSION:2.0
PRODID:-//goodsambwd.org//NONSGML kigkonsult.se iCalcreator 2.30.10//
CALSCALE:GREGORIAN
METHOD:PUBLISH
UID:9dc2f35e-e1cb-4955-908f-3375ea1f88fc
X-WR-CALDESC:
X-WR-RELCALID:929707c5e7f9cfa1e646732aece95823
X-WR-TIMEZONE:America/Chicago
BEGIN:VTIMEZONE
TZID:America/Chicago
BEGIN:STANDARD
TZNAME:CST
DTSTART:20201101T020000
TZOFFSETFROM:-0500
TZOFFSETTO:-0600
RDATE:20211107T020000
RDATE:20221106T020000
END:STANDARD
BEGIN:DAYLIGHT
TZNAME:CDT
DTSTART:20210314T020000
TZOFFSETFROM:-0600
TZOFFSETTO:-0500
RDATE:20220313T020000
END:DAYLIGHT
END:VTIMEZONE
BEGIN:VEVENT
UID:776d3940-fa55-4af3-87f8-00d7771467f9
DTSTAMP:20260421T215543Z
DESCRIPTION:
DTSTART;TZID=America/Chicago:20210906T000000
DTEND;TZID=America/Chicago:20210906T235900
LOCATION:
SUMMARY:CLOSED-Labor Day
END:VEVENT
END:VCALENDAR
