BEGIN:VCALENDAR
VERSION:2.0
PRODID:-//goodsambwd.org//NONSGML kigkonsult.se iCalcreator 2.30.10//
CALSCALE:GREGORIAN
METHOD:PUBLISH
UID:be3ea381-ffc3-4356-883b-55b63994d000
X-WR-CALDESC:
X-WR-RELCALID:8d8e3e90e9d5e21a206dab37e84b2427
X-WR-TIMEZONE:America/Chicago
BEGIN:VTIMEZONE
TZID:America/Chicago
BEGIN:STANDARD
TZNAME:CST
DTSTART:20201101T020000
TZOFFSETFROM:-0500
TZOFFSETTO:-0600
RDATE:20211107T020000
RDATE:20221106T020000
END:STANDARD
BEGIN:DAYLIGHT
TZNAME:CDT
DTSTART:20210314T020000
TZOFFSETFROM:-0600
TZOFFSETTO:-0500
RDATE:20220313T020000
END:DAYLIGHT
END:VTIMEZONE
BEGIN:VEVENT
UID:1fcddc2f-c615-42c1-9148-fcaab454ed12
DTSTAMP:20260422T011944Z
DESCRIPTION:
DTSTART;TZID=America/Chicago:20210730T000000
DTEND;TZID=America/Chicago:20210730T235900
LOCATION:
SUMMARY:GSM CLOSED
END:VEVENT
END:VCALENDAR
