BEGIN:VCALENDAR
VERSION:2.0
PRODID:-//goodsambwd.org//NONSGML kigkonsult.se iCalcreator 2.30.10//
CALSCALE:GREGORIAN
METHOD:PUBLISH
UID:462265f4-1fa2-47b9-944e-64a3ff8f1a8c
X-WR-CALDESC:
X-WR-RELCALID:2e1c0c487b164be48982cb38f7f324a8
X-WR-TIMEZONE:America/Chicago
BEGIN:VTIMEZONE
TZID:America/Chicago
BEGIN:STANDARD
TZNAME:CST
DTSTART:20201101T020000
TZOFFSETFROM:-0500
TZOFFSETTO:-0600
RDATE:20211107T020000
RDATE:20221106T020000
END:STANDARD
BEGIN:DAYLIGHT
TZNAME:CDT
DTSTART:20210314T020000
TZOFFSETFROM:-0600
TZOFFSETTO:-0500
RDATE:20220313T020000
END:DAYLIGHT
END:VTIMEZONE
BEGIN:VEVENT
UID:a523b8d4-2656-430c-881d-c3cf6532dd97
DTSTAMP:20260422T011558Z
DESCRIPTION:
DTSTART;TZID=America/Chicago:20210705T000000
DTEND;TZID=America/Chicago:20210705T235900
LOCATION:
SUMMARY:GSM CLOSED
END:VEVENT
END:VCALENDAR
